BEGIN:VCALENDAR
VERSION:2.0
PRODID:-//hacksw/handcal//NONSGML v1.0//EN
CALSCALE:GREGORIAN
BEGIN:VEVENT
DTEND:20110601T180000Z
UID:69ece6ca17ef5
DTSTAMP:20260425T170738Z
LOCATION:5020 Salzburg
DESCRIPTION:Anmeldung auch in einem 3er-Team möglich 
URL;VALUE=URI:
SUMMARY:Intersport eybl Frauenlauf Salzburg
DTSTART:20110531T230000Z
END:VEVENT
END:VCALENDAR
An internal server error occurred.