BEGIN:VCALENDAR
VERSION:2.0
PRODID:-//hacksw/handcal//NONSGML v1.0//EN
CALSCALE:GREGORIAN
BEGIN:VEVENT
DTEND:20110301T170000Z
UID:69ed6bc433b7d
DTSTAMP:20260426T023500Z
LOCATION:1020 Wien
DESCRIPTION:ACHTUNG: Begrenzte Teilnehmerzahl
URL;VALUE=URI:
SUMMARY:Richtig Laufen- Lauftechnik für Anfänger und Fortgeschrittene
DTSTART:20110228T230000Z
END:VEVENT
END:VCALENDAR
An internal server error occurred.