BEGIN:VCALENDAR
VERSION:2.0
PRODID:-//hacksw/handcal//NONSGML v1.0//EN
CALSCALE:GREGORIAN
BEGIN:VEVENT
DTEND:20110911T100000Z
UID:69eb456bb9f40
DTSTAMP:20260424T112651Z
LOCATION:1220 Wien
DESCRIPTION:
URL;VALUE=URI:
SUMMARY:Donauparklauf der Sportwelt Donaupark
DTSTART:20110910T230000Z
END:VEVENT
END:VCALENDAR
An internal server error occurred.