BEGIN:VCALENDAR
VERSION:2.0
PRODID:-//hacksw/handcal//NONSGML v1.0//EN
CALSCALE:GREGORIAN
BEGIN:VEVENT
DTEND:20110702T090000Z
UID:69eae986bc848
DTSTAMP:20260424T045446Z
LOCATION:4582 Spital/Phyrn
DESCRIPTION:
URL;VALUE=URI:
SUMMARY:Naturfreunde Berglauf Vom Hotel zur Hütte
DTSTART:20110701T230000Z
END:VEVENT
END:VCALENDAR
An internal server error occurred.