BEGIN:VCALENDAR
VERSION:2.0
PRODID:-//hacksw/handcal//NONSGML v1.0//EN
CALSCALE:GREGORIAN
BEGIN:VEVENT
DTEND:20110529T080000Z
UID:69eaf1dfdf31c
DTSTAMP:20260424T053023Z
LOCATION:2700  Wiener Neustadt
DESCRIPTION:
URL;VALUE=URI:
SUMMARY:Akademieparklauf in Wiener Neustadt
DTSTART:20110528T230000Z
END:VEVENT
END:VCALENDAR
An internal server error occurred.