BEGIN:VCALENDAR
VERSION:2.0
PRODID:-//hacksw/handcal//NONSGML v1.0//EN
CALSCALE:GREGORIAN
BEGIN:VEVENT
DTEND:20110528T210000Z
UID:69ed84627c942
DTSTAMP:20260426T042002Z
LOCATION:6700 Dornbirn
DESCRIPTION:
URL;VALUE=URI:
SUMMARY:12 Stunden Nachtlauf in Dornbirn / Messegelände
DTSTART:20110527T230000Z
END:VEVENT
END:VCALENDAR
An internal server error occurred.