BEGIN:VCALENDAR
VERSION:2.0
PRODID:-//hacksw/handcal//NONSGML v1.0//EN
CALSCALE:GREGORIAN
BEGIN:VEVENT
DTEND:20110326T133000Z
UID:69ed3dbb83caa
DTSTAMP:20260425T231835Z
LOCATION:3386 Hafnerbach
DESCRIPTION:
URL;VALUE=URI:
SUMMARY:Hafnerbacher Ruinenlauf - Pielachtal-Laufcup
DTSTART:20110325T230000Z
END:VEVENT
END:VCALENDAR
An internal server error occurred.