BEGIN:VCALENDAR
VERSION:2.0
PRODID:-//hacksw/handcal//NONSGML v1.0//EN
CALSCALE:GREGORIAN
BEGIN:VEVENT
DTEND:20110320T090000Z
UID:69ed7925b297d
DTSTAMP:20260426T033205Z
LOCATION:3202 Hofstetten-Grünau
DESCRIPTION:
URL;VALUE=URI:
SUMMARY:Hofstettner Josefilauf - Pielachtal-Laufcup
DTSTART:20110319T230000Z
END:VEVENT
END:VCALENDAR
An internal server error occurred.