BEGIN:VCALENDAR
VERSION:2.0
PRODID:-//hacksw/handcal//NONSGML v1.0//EN
CALSCALE:GREGORIAN
BEGIN:VEVENT
DTEND:20110402T120000Z
UID:69e9d405e6ef9
DTSTAMP:20260423T091045Z
LOCATION:8472 STRASS
DESCRIPTION:
URL;VALUE=URI:
SUMMARY:Erzherzog Johann Lauf in Strass-Gersdorf
DTSTART:20110401T230000Z
END:VEVENT
END:VCALENDAR
An internal server error occurred.