BEGIN:VCALENDAR
VERSION:2.0
PRODID:-//hacksw/handcal//NONSGML v1.0//EN
CALSCALE:GREGORIAN
BEGIN:VEVENT
DTEND:20111105T090000Z
UID:69ed22d5e2150
DTSTAMP:20260425T212349Z
LOCATION:4101 Feldkirchen/Donau
DESCRIPTION:Alter zwischen 2Jahre und 14 Jahre
URL;VALUE=URI:
SUMMARY:Haribo Kinderlauf im Zuge vom Pesenbachtallauf
DTSTART:20111104T230000Z
END:VEVENT
END:VCALENDAR
An internal server error occurred.