BEGIN:VCALENDAR
VERSION:2.0
PRODID:-//hacksw/handcal//NONSGML v1.0//EN
CALSCALE:GREGORIAN
BEGIN:VEVENT
DTEND:20110114T140000Z
UID:69ed939804432
DTSTAMP:20260426T052456Z
LOCATION:1020 Wien
DESCRIPTION:Anmeldung erforderlich\, per mail oder telefonisch. ACHTUNG: Begrenzte Teilnehmerzahl 

URL;VALUE=URI:
SUMMARY:Richtig Laufen - Lauftechnik für Anfänger und Fortgeschrittene
DTSTART:20110113T230000Z
END:VEVENT
END:VCALENDAR
An internal server error occurred.