BEGIN:VCALENDAR
VERSION:2.0
PRODID:-//hacksw/handcal//NONSGML v1.0//EN
CALSCALE:GREGORIAN
BEGIN:VEVENT
DTEND:20110112T170000Z
UID:69ed86f7dba80
DTSTAMP:20260426T043103Z
LOCATION:3100  St. Pölten
DESCRIPTION:Laufen\, Richtig Laufen ist gesund und macht Spaß.
URL;VALUE=URI:
SUMMARY:Richtig Laufen - Lauftechnik für Anfänger und Fortgeschrittene
DTSTART:20110111T230000Z
END:VEVENT
END:VCALENDAR
An internal server error occurred.