BEGIN:VCALENDAR
VERSION:2.0
PRODID:-//hacksw/handcal//NONSGML v1.0//EN
CALSCALE:GREGORIAN
BEGIN:VEVENT
DTEND:20160902T230000Z
UID:69ecf426dadef
DTSTAMP:20260425T180438Z
LOCATION:3363 Hausmening
DESCRIPTION:
URL;VALUE=URI:
SUMMARY:Neufurther Zwei Stege Lauf und Kinder- und Jugenlauf
DTSTART:20160902T230000Z
END:VEVENT
END:VCALENDAR
An internal server error occurred.