BEGIN:VCALENDAR
VERSION:2.0
PRODID:-//hacksw/handcal//NONSGML v1.0//EN
CALSCALE:GREGORIAN
BEGIN:VEVENT
DTEND:20100910T140000Z
UID:69ed9391a29a4
DTSTAMP:20260426T052449Z
LOCATION:1020 Wien
DESCRIPTION:Laufen\, Richtig Laufen ist gesund und macht Spaß.
URL;VALUE=URI:
SUMMARY:Richtig Laufen - Lauftechnik für Anfänger und Fortgeschrittene
DTSTART:20100909T230000Z
END:VEVENT
END:VCALENDAR
An internal server error occurred.