BEGIN:VCALENDAR
VERSION:2.0
PRODID:-//hacksw/handcal//NONSGML v1.0//EN
CALSCALE:GREGORIAN
BEGIN:VEVENT
DTEND:20100909T180000Z
UID:69ed9398e256c
DTSTAMP:20260426T052456Z
LOCATION:1020 Wien
DESCRIPTION:Laufen\, Richtig Laufen ist gesund und macht Spaß.
URL;VALUE=URI:
SUMMARY:Richtig Laufen - Lauftechnik für Anfänger und Fortgeschrittene
DTSTART:20100908T230000Z
END:VEVENT
END:VCALENDAR
An internal server error occurred.