BEGIN:VCALENDAR
VERSION:2.0
PRODID:-//hacksw/handcal//NONSGML v1.0//EN
CALSCALE:GREGORIAN
BEGIN:VEVENT
DTEND:20100925T070000Z
UID:69ec158c25533
DTSTAMP:20260425T021452Z
LOCATION:9020  Klagenfurt
DESCRIPTION:Der schönste (Ultra-) Geländelauf Mitteleuropas
URL;VALUE=URI:
SUMMARY:Wörthersee Trail Ultralauf u. Speed-Hiking Wandermarathon
DTSTART:20100924T230000Z
END:VEVENT
END:VCALENDAR
An internal server error occurred.