BEGIN:VCALENDAR
VERSION:2.0
PRODID:-//hacksw/handcal//NONSGML v1.0//EN
CALSCALE:GREGORIAN
BEGIN:VEVENT
DTEND:20100822T090000Z
UID:69ed846451779
DTSTAMP:20260426T042004Z
LOCATION:6764 Lech am Arlberg
DESCRIPTION:Beim kleinen Bruder des Höhenhalbmarathons steht der Spaß am Laufen noch mehr im Vordergrund.
URL;VALUE=URI:
SUMMARY:Raiffeisen Fitnesslauf in Lech am Arlberg
DTSTART:20100821T230000Z
END:VEVENT
END:VCALENDAR
An internal server error occurred.