BEGIN:VCALENDAR
VERSION:2.0
PRODID:-//hacksw/handcal//NONSGML v1.0//EN
CALSCALE:GREGORIAN
BEGIN:VEVENT
DTEND:20100308T180000Z
UID:69ed939503699
DTSTAMP:20260426T052453Z
LOCATION:1020 Wien
DESCRIPTION:Laufen\, Richtig Laufen ist gesund und macht Spaß. Aber... Nur 10 % aller Läufer laufen „richtig“\, 90 % sind mit teils groben Fehlern unterwegs. Eine verbesserte Lauftechnik minimiert Fehlbelastungen\, fördert Gesundheit\, Trainingswirksamkeit und Spaß am Laufen und nebenbei die Leistung. Anmeldung erforderlich\, per mail oder telefonisch. ACHTUNG: Begrenzte Teilnehmerzahl 

URL;VALUE=URI:
SUMMARY:Richtig Laufen- Lauftechnik  für Anfänger und Fortgeschrittene
DTSTART:20100307T230000Z
END:VEVENT
END:VCALENDAR
An internal server error occurred.