BEGIN:VCALENDAR
VERSION:2.0
PRODID:-//hacksw/handcal//NONSGML v1.0//EN
CALSCALE:GREGORIAN
BEGIN:VEVENT
DTEND:20100530T080000Z
UID:69eaa44779280
DTSTAMP:20260423T235919Z
LOCATION:2700  Wiener Neustadt
DESCRIPTION:
URL;VALUE=URI:
SUMMARY:Akademieparklauf in Wiener Neustadt
DTSTART:20100529T230000Z
END:VEVENT
END:VCALENDAR
An internal server error occurred.