BEGIN:VCALENDAR
VERSION:2.0
PRODID:-//hacksw/handcal//NONSGML v1.0//EN
CALSCALE:GREGORIAN
BEGIN:VEVENT
DTEND:20100620T093000Z
UID:69ed86f782aa1
DTSTAMP:20260426T043103Z
LOCATION:4020 Linz
DESCRIPTION:
URL;VALUE=URI:
SUMMARY:Love your Life Frauenlauf in Linz
DTSTART:20100619T230000Z
END:VEVENT
END:VCALENDAR
An internal server error occurred.