BEGIN:VCALENDAR
VERSION:2.0
PRODID:-//hacksw/handcal//NONSGML v1.0//EN
CALSCALE:GREGORIAN
BEGIN:VEVENT
DTEND:20100905T090000Z
UID:69ed939ab6d54
DTSTAMP:20260426T052458Z
LOCATION:1220 Donaupark
DESCRIPTION:
URL;VALUE=URI:
SUMMARY:Love your Life Frauenlauf in Wien
DTSTART:20100904T230000Z
END:VEVENT
END:VCALENDAR
An internal server error occurred.