BEGIN:VCALENDAR
VERSION:2.0
PRODID:-//hacksw/handcal//NONSGML v1.0//EN
CALSCALE:GREGORIAN
BEGIN:VEVENT
DTEND:20100702T160000Z
UID:69ed8fcc15c4d
DTSTAMP:20260426T050844Z
LOCATION:8952 Irdning
DESCRIPTION:
URL;VALUE=URI:
SUMMARY:Lauffestival beim 24-Stunden-Benefizlauf in Irdning
DTSTART:20100701T230000Z
END:VEVENT
END:VCALENDAR
An internal server error occurred.