BEGIN:VCALENDAR
VERSION:2.0
PRODID:-//hacksw/handcal//NONSGML v1.0//EN
CALSCALE:GREGORIAN
BEGIN:VEVENT
DTEND:20100912T100000Z
UID:69eae7babe5ef
DTSTAMP:20260424T044706Z
LOCATION:1220 Wien
DESCRIPTION:
URL;VALUE=URI:
SUMMARY:Donauparklauf der Sportwelt Donaupark
DTSTART:20100911T230000Z
END:VEVENT
END:VCALENDAR
An internal server error occurred.