BEGIN:VCALENDAR
VERSION:2.0
PRODID:-//hacksw/handcal//NONSGML v1.0//EN
CALSCALE:GREGORIAN
BEGIN:VEVENT
DTEND:20100613T080000Z
UID:69ec03a2cb4fd
DTSTAMP:20260425T005826Z
LOCATION:5412 Hallein
DESCRIPTION:
URL;VALUE=URI:
SUMMARY:Intersport Eybl Salzkristallauf Hallein
DTSTART:20100612T230000Z
END:VEVENT
END:VCALENDAR
An internal server error occurred.