BEGIN:VCALENDAR
VERSION:2.0
PRODID:-//hacksw/handcal//NONSGML v1.0//EN
CALSCALE:GREGORIAN
BEGIN:VEVENT
DTEND:20100626T053000Z
UID:69eaf64301ff5
DTSTAMP:20260424T054907Z
LOCATION:4710 Grieskirchen
DESCRIPTION:
URL;VALUE=URI:
SUMMARY:Grieskirchner 12-Stundenlauf-Benefizlauf
DTSTART:20100625T230000Z
END:VEVENT
END:VCALENDAR
An internal server error occurred.