BEGIN:VCALENDAR
VERSION:2.0
PRODID:-//hacksw/handcal//NONSGML v1.0//EN
CALSCALE:GREGORIAN
BEGIN:VEVENT
DTEND:20100425T083000Z
UID:69eb455d54ab4
DTSTAMP:20260424T112637Z
LOCATION:2003 Leitzersdorf
DESCRIPTION:
URL;VALUE=URI:
SUMMARY:Waschberg-Crosslauf u. Nordic Walking\, Leitzersdorf
DTSTART:20100424T230000Z
END:VEVENT
END:VCALENDAR
An internal server error occurred.