BEGIN:VCALENDAR
VERSION:2.0
PRODID:-//hacksw/handcal//NONSGML v1.0//EN
CALSCALE:GREGORIAN
BEGIN:VEVENT
DTEND:20090502T080000Z
UID:69ebd6bc4f3a9
DTSTAMP:20260424T214652Z
LOCATION:73326 Deggingen
DESCRIPTION: Laufen für´s Leben !Nordic Walking und Walking Halbmarathon

Ein sportliches Hallo

Laufen für´s Leben!
Unter diesem Motto startet der 4. Nordic Walking Halbmarathon Oberes Filstal am 02. Mai um 10:00 Uhr in der Gemeinde Deggingen
Start und Ziel ist der Bereich der Schulsporthalle Deggingen
Begünstigte dieser 4. Veranstaltung sind die Deutsche Gesellschaft für Muskelkranke e. V. sowie der 14 Jahre alte Martin Bernauer / Müller aus Bad Ditzenbach\, der an unheilbarer Muskeldystrophie erkrankt und seit dem Sommer 2008 nicht mehr gefähig ist. Damit Martin sich in der kleinen Wohnung mit seinem Rollstuhl richtig bewegen kann\, ist eine Umfeldverbesserung ( behindertengerechte Wohnung ) notwendig. Die Umbaukosten betragen ca. 30.000 €\, die privat aufgebracht werden müssen .Der Erlös der Veranstaltung wird zu 100 % weitergegeben. Aus den ersten drei Veranstaltungen konnten fast 10.000 € an gemeinnützige Gruppen gespendet werden.
Helfen auch Sie durch einen Start am 02.Mai in Deggingen.
Wir hoffen auf eine rege Beteiligung aller Nordic Walking Fans im Täle und aus anderen Regionen.
Anmeldungen und Informationen sind unter Tel. 07335 185210
per Email hmgraeber@gmx.de oder unter http://www.halbmarathon-nw-oberes-filstal.de/ ab sofort möglich.
Wir würden uns sehr freuen möglichst viele Leser des Forums bei uns begrüßen zu dürfen.Wie Sie wissen ist Nordic walking und Walking eine ideale Ergänzung zu anderen Sportarten.

Auf vielfachem Wunsch haben die Veranstalter auch Läufer zugelassen.
Machen Sie sich ein schönes Wochende im Dienste der guten Sache.

Mit freundlichen Grüßen

Harald Graeber 1. Vorsitzender des Nordic Walking SC e. V. Oberes Filstal

Anschrift: Nordic Walking SC e.V. Oberes Filstal\; Hauptstr. 35 \; 73349 Wiesensteig

Der NWSC e.V. hat für Martin ein Spendenkonto eingerichtet:
Volksbank Deggingen
BLZ . 610 912 00
Konto Nr.: 62 60 15

Tun Sie den ersten Schritt
_________________
Gemeinsam neue Wege gehen
Mit Zitat antworten
URL;VALUE=URI:
SUMMARY:4.lauf und Nordic Walking -Walking Halbmarathon Oberes Filstal
DTSTART:20090501T230000Z
END:VEVENT
END:VCALENDAR
An internal server error occurred.