BEGIN:VCALENDAR
VERSION:2.0
PRODID:-//hacksw/handcal//NONSGML v1.0//EN
CALSCALE:GREGORIAN
BEGIN:VEVENT
DTEND:20100327T133000Z
UID:69ecf421b4792
DTSTAMP:20260425T180433Z
LOCATION:3386 Hafnerbach
DESCRIPTION:
URL;VALUE=URI:
SUMMARY:Hafnerbacher Ruinenlauf - Pielachtal-Laufcup
DTSTART:20100326T230000Z
END:VEVENT
END:VCALENDAR
An internal server error occurred.