BEGIN:VCALENDAR
VERSION:2.0
PRODID:-//hacksw/handcal//NONSGML v1.0//EN
CALSCALE:GREGORIAN
BEGIN:VEVENT
DTEND:20091025T070000Z
UID:69ed6655d2894
DTSTAMP:20260426T021149Z
LOCATION:85072 Eichstätt
DESCRIPTION:Benefizlauf - auch für Walker und Nordic Walker
URL;VALUE=URI:
SUMMARY:Lions-Städtelauf von Eichstätt nach Neuburg an der Donau - Benefizlauf
DTSTART:20091024T230000Z
END:VEVENT
END:VCALENDAR
An internal server error occurred.