BEGIN:VCALENDAR
VERSION:2.0
PRODID:-//hacksw/handcal//NONSGML v1.0//EN
CALSCALE:GREGORIAN
BEGIN:VEVENT
DTEND:20090425T230000Z
UID:69ed6bc246209
DTSTAMP:20260426T023458Z
LOCATION:59227 Ahlen
DESCRIPTION:
URL;VALUE=URI:
SUMMARY:Straßenlauf rund um die Wibbeltkapelle
DTSTART:20090425T230000Z
END:VEVENT
END:VCALENDAR
An internal server error occurred.