BEGIN:VCALENDAR
VERSION:2.0
PRODID:-//hacksw/handcal//NONSGML v1.0//EN
CALSCALE:GREGORIAN
BEGIN:VEVENT
DTEND:20090424T230000Z
UID:69ecf42865769
DTSTAMP:20260425T180440Z
LOCATION:22299 Hamburg
DESCRIPTION:
URL;VALUE=URI:
SUMMARY:Das Zehntel für Kinder Zehntel für Kinder und Jugendliche
DTSTART:20090424T230000Z
END:VEVENT
END:VCALENDAR
An internal server error occurred.