BEGIN:VCALENDAR
VERSION:2.0
PRODID:-//hacksw/handcal//NONSGML v1.0//EN
CALSCALE:GREGORIAN
BEGIN:VEVENT
DTEND:20090117T230000Z
UID:69ead0579b70a
DTSTAMP:20260424T030719Z
LOCATION:27239 Twistringen
DESCRIPTION:
URL;VALUE=URI:
SUMMARY:Lauf zur Crosslauf-Serie Mehren
DTSTART:20090117T230000Z
END:VEVENT
END:VCALENDAR
An internal server error occurred.