BEGIN:VCALENDAR
VERSION:2.0
PRODID:-//hacksw/handcal//NONSGML v1.0//EN
CALSCALE:GREGORIAN
BEGIN:VEVENT
DTEND:20090110T230000Z
UID:69eb2ab293068
DTSTAMP:20260424T093250Z
LOCATION:07589 Münchenbernsdorf
DESCRIPTION:
URL;VALUE=URI:
SUMMARY:2. Hallenmarathon in der Niederlausitzhalle Senftenberg
DTSTART:20090110T230000Z
END:VEVENT
END:VCALENDAR
An internal server error occurred.