BEGIN:VCALENDAR
VERSION:2.0
PRODID:-//hacksw/handcal//NONSGML v1.0//EN
CALSCALE:GREGORIAN
BEGIN:VEVENT
DTEND:20090516T100000Z
UID:69ecf429b222a
DTSTAMP:20260425T180441Z
LOCATION:96349 Steinwiesen
DESCRIPTION:Schönes Rahmenprogramm für die ganze Familie\, die ersten 100 Starter erhalten erweiterte Startertaschen
URL;VALUE=URI:
SUMMARY:NW-Halb-Marathon im Oberen Rodachtal in Steinwiesen
DTSTART:20090515T230000Z
END:VEVENT
END:VCALENDAR
An internal server error occurred.