BEGIN:VCALENDAR
VERSION:2.0
PRODID:-//hacksw/handcal//NONSGML v1.0//EN
CALSCALE:GREGORIAN
BEGIN:VEVENT
DTEND:20090207T120000Z
UID:69ed824a09006
DTSTAMP:20260426T041106Z
LOCATION:54293 Trier
DESCRIPTION:
URL;VALUE=URI:
SUMMARY:Offizielle Streckenbesichtigung zum 2. Trierer BMW Cloppenburg X-Duathlon
DTSTART:20090206T230000Z
END:VEVENT
END:VCALENDAR
An internal server error occurred.