BEGIN:VCALENDAR
VERSION:2.0
PRODID:-//hacksw/handcal//NONSGML v1.0//EN
CALSCALE:GREGORIAN
BEGIN:VEVENT
DTEND:20090905T135000Z
UID:69eca7bd964af
DTSTAMP:20260425T123837Z
LOCATION:3363 Hausmening - Neufurth
DESCRIPTION:Schülerläufe: Jeder Jahrgang von 2002 - 1993 wird extra gewertet.
URL;VALUE=URI:
SUMMARY:Kinderlauf und 1. Zwei Stegelauf in Hausmening
DTSTART:20090904T230000Z
END:VEVENT
END:VCALENDAR
An internal server error occurred.