BEGIN:VCALENDAR
VERSION:2.0
PRODID:-//hacksw/handcal//NONSGML v1.0//EN
CALSCALE:GREGORIAN
BEGIN:VEVENT
DTEND:20090503T093000Z
UID:69ec0c69b6db5
DTSTAMP:20260425T013553Z
LOCATION:39040 Natz-Schabs BZ - Südtirol
DESCRIPTION:
URL;VALUE=URI:
SUMMARY:Blütenlauf auf dem Apfelhochplateau Natz Schabs
DTSTART:20090502T230000Z
END:VEVENT
END:VCALENDAR
An internal server error occurred.