BEGIN:VCALENDAR
VERSION:2.0
PRODID:-//hacksw/handcal//NONSGML v1.0//EN
CALSCALE:GREGORIAN
BEGIN:VEVENT
DTEND:20090607T090000Z
UID:69ece6c914c8c
DTSTAMP:20260425T170737Z
LOCATION:1020 Wien
DESCRIPTION:
URL;VALUE=URI:
SUMMARY:Österreichischer dm Frauenlauf Wien
DTSTART:20090606T230000Z
END:VEVENT
END:VCALENDAR
An internal server error occurred.