BEGIN:VCALENDAR
VERSION:2.0
PRODID:-//hacksw/handcal//NONSGML v1.0//EN
CALSCALE:GREGORIAN
BEGIN:VEVENT
DTEND:20090115T170000Z
UID:69eb0b7658aed
DTSTAMP:20260424T071934Z
LOCATION:1020 Wien
DESCRIPTION:Aqua Jogging: Ein Sport\, mit dem Ursprung tief im Spitzensport\, erobert mehr und mehr die Welt der Freizeit-\, Hobby- und Gesundheitssporler.
Was ist Aqua Jogging\, die Wirkungen\, die Anwendung\, die Praxis vorgetragen vom einem der Pionieren des neuen Trendsports.
Die Vorträge sind unabhängig von den parallel angebotenen Kursen\, ergänzen sie aber wunderbar.
Ort: Hockey Club\, Prater Hauptallee 124\, 1020\; 5min U2 Messe
Platzreservierung erforderlich\, begrenzte Teilnehmerzahl
URL;VALUE=URI:
SUMMARY:Aqua Joggen: der gesunde Gesundheitssport     / Vortrag
DTSTART:20090114T230000Z
END:VEVENT
END:VCALENDAR
An internal server error occurred.