BEGIN:VCALENDAR
VERSION:2.0
PRODID:-//hacksw/handcal//NONSGML v1.0//EN
CALSCALE:GREGORIAN
BEGIN:VEVENT
DTEND:20081026T083000Z
UID:69ed939043c18
DTSTAMP:20260426T052448Z
LOCATION:3500 Krems
DESCRIPTION:Genußlauf 25km
Genußlauf 12\,5km
Genußwalken 12\,5km

URL;VALUE=URI:
SUMMARY:Wienerwald Genußlauf - ABGESAGT lt. Veranstalter am 20.10.08 !
DTSTART:20081025T230000Z
END:VEVENT
END:VCALENDAR
An internal server error occurred.