BEGIN:VCALENDAR
VERSION:2.0
PRODID:-//hacksw/handcal//NONSGML v1.0//EN
CALSCALE:GREGORIAN
BEGIN:VEVENT
DTEND:20080914T080000Z
UID:69ed86e887427
DTSTAMP:20260426T043048Z
LOCATION:97517 Rannungen
DESCRIPTION:
URL;VALUE=URI:
SUMMARY:Wald- und Naturlauf Rund um Rannungen
DTSTART:20080913T230000Z
END:VEVENT
END:VCALENDAR
An internal server error occurred.