BEGIN:VCALENDAR
VERSION:2.0
PRODID:-//hacksw/handcal//NONSGML v1.0//EN
CALSCALE:GREGORIAN
BEGIN:VEVENT
DTEND:20090801T060000Z
UID:69ed86ed52e4d
DTSTAMP:20260426T043053Z
LOCATION:1220 Wien
DESCRIPTION:
URL;VALUE=URI:
SUMMARY:ABGESAGT am 13.5.09 ! Vienna City Triathlon Langdistanz
DTSTART:20090731T230000Z
END:VEVENT
END:VCALENDAR
An internal server error occurred.