BEGIN:VCALENDAR
VERSION:2.0
PRODID:-//hacksw/handcal//NONSGML v1.0//EN
CALSCALE:GREGORIAN
BEGIN:VEVENT
DTEND:20080606T183000Z
UID:69eaf1da6cf5a
DTSTAMP:20260424T053018Z
LOCATION:59302 Oelde
DESCRIPTION:Separater Elitelauf ausschließlich für professionelle geladene Läufer/innen um 21:45 auf attrkativem 1400m Rundkurs
Fortsetzung am 07. Juni ab 15:30 Uhr mit Bambinilauf\, Schülerläufen und Gewerbejuxlauf
URL;VALUE=URI:
SUMMARY:11. Internationaler Oelder Sparkassen-Citylauf
DTSTART:20080605T230000Z
END:VEVENT
END:VCALENDAR
An internal server error occurred.