BEGIN:VCALENDAR
VERSION:2.0
PRODID:-//hacksw/handcal//NONSGML v1.0//EN
CALSCALE:GREGORIAN
BEGIN:VEVENT
DTEND:20080509T230000Z
UID:69ed0ba21479b
DTSTAMP:20260425T194450Z
LOCATION:70839 Gerlingen
DESCRIPTION:
URL;VALUE=URI:
SUMMARY:Feuerbacher Volkslauf Rund um die Mammutbäume
DTSTART:20080509T230000Z
END:VEVENT
END:VCALENDAR
An internal server error occurred.