BEGIN:VCALENDAR
VERSION:2.0
PRODID:-//hacksw/handcal//NONSGML v1.0//EN
CALSCALE:GREGORIAN
BEGIN:VEVENT
DTEND:20080426T230000Z
UID:69ed8fc6f1bd3
DTSTAMP:20260426T050838Z
LOCATION:79379 Müllheim
DESCRIPTION:
URL;VALUE=URI:
SUMMARY:Genusslauf Halbmarathon und Viertelmarathon Du-kannst-es-schaffen-Lauf
DTSTART:20080426T230000Z
END:VEVENT
END:VCALENDAR
An internal server error occurred.