BEGIN:VCALENDAR
VERSION:2.0
PRODID:-//hacksw/handcal//NONSGML v1.0//EN
CALSCALE:GREGORIAN
BEGIN:VEVENT
DTEND:20080404T230000Z
UID:69eae97cac4e6
DTSTAMP:20260424T045436Z
LOCATION:57223 Kreuztal
DESCRIPTION:
URL;VALUE=URI:
SUMMARY:Frühjahrswaldlauf Kreuztal-Ferndorf  
DTSTART:20080404T230000Z
END:VEVENT
END:VCALENDAR
An internal server error occurred.