BEGIN:VCALENDAR
VERSION:2.0
PRODID:-//hacksw/handcal//NONSGML v1.0//EN
CALSCALE:GREGORIAN
BEGIN:VEVENT
DTEND:20080401T230000Z
UID:69eae98599fe3
DTSTAMP:20260424T045445Z
LOCATION:13055 Berlin
DESCRIPTION:
URL;VALUE=URI:
SUMMARY:Laufserie mit Musik(1) Berlin Hohenschönhausen  
DTSTART:20080401T230000Z
END:VEVENT
END:VCALENDAR
An internal server error occurred.