BEGIN:VCALENDAR
VERSION:2.0
PRODID:-//hacksw/handcal//NONSGML v1.0//EN
CALSCALE:GREGORIAN
BEGIN:VEVENT
DTEND:20080314T230000Z
UID:69ed86f5132c8
DTSTAMP:20260426T043101Z
LOCATION:71720 Oberstenfeld
DESCRIPTION:
URL;VALUE=URI:
SUMMARY:Burgen-/Schloßserie 3. Etappenlauf Burg Schaubeck
DTSTART:20080314T230000Z
END:VEVENT
END:VCALENDAR
An internal server error occurred.