BEGIN:VCALENDAR
VERSION:2.0
PRODID:-//hacksw/handcal//NONSGML v1.0//EN
CALSCALE:GREGORIAN
BEGIN:VEVENT
DTEND:20080314T230000Z
UID:69ecf4273102f
DTSTAMP:20260425T180439Z
LOCATION:16348 Wandlitz
DESCRIPTION:
URL;VALUE=URI:
SUMMARY:Fielmann Natur Marathon (4. Lauf der Winterlaufserie)
DTSTART:20080314T230000Z
END:VEVENT
END:VCALENDAR
An internal server error occurred.