BEGIN:VCALENDAR
VERSION:2.0
PRODID:-//hacksw/handcal//NONSGML v1.0//EN
CALSCALE:GREGORIAN
BEGIN:VEVENT
DTEND:20080215T230000Z
UID:69eb3ba37335b
DTSTAMP:20260424T104507Z
LOCATION:34466 Wolfhagen
DESCRIPTION:
URL;VALUE=URI:
SUMMARY:Winterlaufserie (4. Lauf) Wolfhagen-Ippinghaus  
DTSTART:20080215T230000Z
END:VEVENT
END:VCALENDAR
An internal server error occurred.